BEGIN:VCALENDAR
VERSION:2.0
PRODID:-//ChamberMaster//Event Calendar 2.0//EN
METHOD:PUBLISH
X-PUBLISHED-TTL:P3D
REFRESH-INTERVAL:P3D
CALSCALE:GREGORIAN
BEGIN:VEVENT
DTSTART:20170801T223000Z
DTEND:20170801T233000Z
X-MICROSOFT-CDO-ALLDAYEVENT:FALSE
SUMMARY:100 People Who Care Giving Meeting
DESCRIPTION:The Barton County chapter of "100 People Who Care" will hold their next giving meeting on Tuesday\, August 1st at 5:30 p.m. in the Best Western Angus Inn Courtyard\, 2920 10th Street in Great Bend.\n\n\n\nRegistration opens at 5 p.m. and the meeting begins promptly at 5:30 p.m. Three charities\, who were nominated at last quarter's meeting\, will have 5 minutes to speak and 5 minutes to answer questions. Once all three charities have presented\, the members will vote and then hear from last quarter's winning charity\, Almost Home Inc.\, while the votes are being tallied. At the end of the meeting\, the winner is announced and all members write a check for $100 directly to the winning charity. Because the group has more than 100 members\, the 1-hour giving meeting effectively raises over $10\,000 - making a BIG impact with a SMALL time commitment!\n\n\n\nThe three charities invited to present at this quarter's meeting are:\n\nCamp Hope Heartland\n\nFamily Crisis Center\n\nHealing Hearts Ranch\n\n\n\nAnyone interested in learning more or getting involved is encouraged to visit www.100bartoncounty.org. There is no fee to join\, other than the pledge for attendance and donating to the charities four times per year. You can also follow the group on Facebook. New members are welcome to join at any meeting! Join us!
X-ALT-DESC;FMTTYPE=text/html:<span style="color: rgb(13\, 6\, 0)\; font-family: Georgia\; font-size: 13.3333px\;">The Barton County chapter of &quot\;100 People Who Care&quot\; will hold their next giving meeting on Tuesday\, August 1st at 5:30 p.m. in the Best Western Angus Inn Courtyard\, 2920 10th Street in Great Bend.</span><br style="color: rgb(13\, 6\, 0)\; font-family: Georgia\; font-size: 13.3333px\;" />\n<br style="color: rgb(13\, 6\, 0)\; font-family: Georgia\; font-size: 13.3333px\;" />\n<span style="color: rgb(13\, 6\, 0)\; font-family: Georgia\; font-size: 13.3333px\;">Registration opens at 5 p.m. and the meeting begins promptly at 5:30 p.m. Three charities\, who were nominated at last quarter&#39\;s meeting\, will have 5 minutes to speak and 5 minutes to answer questions. Once all three charities have presented\, the members will vote and then hear from last quarter&#39\;s winning charity\, Almost Home Inc.\, while the votes are being tallied. At the end of the meeting\, the winner is announced and all members write a check for $100 directly to the winning charity. Because the group has more than 100 members\, the 1-hour giving meeting effectively raises over $10\,000 - making a BIG impact with a SMALL time commitment!</span><br style="color: rgb(13\, 6\, 0)\; font-family: Georgia\; font-size: 13.3333px\;" />\n<br style="color: rgb(13\, 6\, 0)\; font-family: Georgia\; font-size: 13.3333px\;" />\n<span style="color: rgb(13\, 6\, 0)\; font-family: Georgia\; font-size: 13.3333px\;">The three charities invited to present at this quarter&#39\;s meeting are:</span><br style="color: rgb(13\, 6\, 0)\; font-family: Georgia\; font-size: 13.3333px\;" />\n<span style="color: rgb(13\, 6\, 0)\; font-family: Georgia\; font-size: 13.3333px\;">Camp Hope Heartland</span><br style="color: rgb(13\, 6\, 0)\; font-family: Georgia\; font-size: 13.3333px\;" />\n<span style="color: rgb(13\, 6\, 0)\; font-family: Georgia\; font-size: 13.3333px\;">Family Crisis Center</span><br style="color: rgb(13\, 6\, 0)\; font-family: Georgia\; font-size: 13.3333px\;" />\n<span style="color: rgb(13\, 6\, 0)\; font-family: Georgia\; font-size: 13.3333px\;">Healing Hearts Ranch</span><br style="color: rgb(13\, 6\, 0)\; font-family: Georgia\; font-size: 13.3333px\;" />\n<br style="color: rgb(13\, 6\, 0)\; font-family: Georgia\; font-size: 13.3333px\;" />\n<span style="color: rgb(13\, 6\, 0)\; font-family: Georgia\; font-size: 13.3333px\;">Anyone interested in learning more or getting involved is encouraged to visit www.100bartoncounty.org. There is no fee to join\, other than the pledge for attendance and donating to the charities four times per year. You can also follow the group on Facebook. New members are welcome to join at any meeting! Join us!</span>
LOCATION:Best Western Angus Inn Courtyard 2920 10th Street Great Bend\, KS 67530
UID:e.2303.3015
SEQUENCE:3
DTSTAMP:20260422T160133Z
URL:https://members.greatbend.org/events/details/100-people-who-care-giving-meeting-3015
END:VEVENT

END:VCALENDAR
