BEGIN:VCALENDAR
VERSION:2.0
PRODID:-//ChamberMaster//Event Calendar 2.0//EN
METHOD:PUBLISH
X-PUBLISHED-TTL:P3D
REFRESH-INTERVAL:P3D
CALSCALE:GREGORIAN
BEGIN:VEVENT
DTSTART:20170602T140000Z
DTEND:20170602T180000Z
X-MICROSOFT-CDO-ALLDAYEVENT:FALSE
SUMMARY:12th Annual Gary Gore Memorial Golf Tournament
DESCRIPTION:Looking for a great way to meet new people or maybe just an excuse to get out of the office on a Friday? The Chamber's 12th Annual Gary Gore Golf Tournament will be held Friday\, June 2nd at Stoneridge Country Club with a 9 a.m. shotgun start.\n\n\n\n7:30 am Registration Opens \n\n9:00 am Shotgun Start\n\n1:30 pm Awards & Patio Party \n\n\n\nHelp us welcome Mitch Holthus\, Voice of the Kansas City Chiefs\, as a special tournament guest. Members and guests are encouraged to participate in this fun-filled event. The tournament is a way to link business with pleasure\, and provides an opportunity for participants to network with other business professionals in a casual and relaxed environment. The tournament memorializes former Chamber President and CEO Gary Gore\, who died in a watercraft accident at Wilson Lake in 2005. Gore was serving as Chamber president at the time of his death\, a position he held for five years.\n\n\n\nCost to enter the tournament is $100 per player\, or $400 per team. Mulligans and hole contests will be available the day of the tournament. Chamber Gift Certificates (redeemable at 120+ stores in Great Bend) will be awarded to the top three teams in each flight! Tournament luncheon & a patio party while we await results is included for all golfers. The tournament will also include lots of player hospitality\, hosted beverage carts & door prizes galore! Top three teams in each flight will receive prizes!\n\n\n\nIndividual Registration: $100.00 \n\nTeam Registration: $400.00 \n\nHole Sponsorship: $100.00 \n\nPremium Sponsorship: $200.00 \n\n\n\nRegister your team or hole sponsorship online: https://fs23.formsite.com/abauer/GolfTournament/index.html \n\n\n\nQuestions? Contact Andrea Bauer at the Great Bend Chamber of Commerce and Economic Development\, 620-792-2401\, abauer@greatbend.org\n\n\n\nDate - Jun 02\, 2017 \n\nTime - At 09:00 AM \n\nType - Chamber Event \n\nCommunity - Great Bend \n\nLocation - Stoneridge Country Club \n\nContact - Andrea Bauer \n\nEmail - abauer@greatbend.org \n\nWebsite - fs23.formsite.com/abauer/GolfTournament/index.html
X-ALT-DESC;FMTTYPE=text/html:<span style="color: rgb(13\, 6\, 0)\; font-family: Georgia\; font-size: 13.3333px\;">Looking for a great way to meet new people or maybe just an excuse to get out of the office on a Friday? The Chamber&#39\;s 12th Annual Gary Gore Golf Tournament will be held Friday\, June 2nd at Stoneridge Country Club with a 9 a.m. shotgun start.</span><br style="color: rgb(13\, 6\, 0)\; font-family: Georgia\; font-size: 13.3333px\;" />\n<br style="color: rgb(13\, 6\, 0)\; font-family: Georgia\; font-size: 13.3333px\;" />\n<span style="color: rgb(13\, 6\, 0)\; font-family: Georgia\; font-size: 13.3333px\;">7:30 am Registration Opens&nbsp\;</span><br style="color: rgb(13\, 6\, 0)\; font-family: Georgia\; font-size: 13.3333px\;" />\n<span style="color: rgb(13\, 6\, 0)\; font-family: Georgia\; font-size: 13.3333px\;">9:00 am Shotgun Start</span><br style="color: rgb(13\, 6\, 0)\; font-family: Georgia\; font-size: 13.3333px\;" />\n<span style="color: rgb(13\, 6\, 0)\; font-family: Georgia\; font-size: 13.3333px\;">1:30 pm Awards &amp\; Patio Party&nbsp\;</span><br style="color: rgb(13\, 6\, 0)\; font-family: Georgia\; font-size: 13.3333px\;" />\n<br style="color: rgb(13\, 6\, 0)\; font-family: Georgia\; font-size: 13.3333px\;" />\n<span style="color: rgb(13\, 6\, 0)\; font-family: Georgia\; font-size: 13.3333px\;">Help us welcome Mitch Holthus\, Voice of the Kansas City Chiefs\, as a special tournament guest. Members and guests are encouraged to participate in this fun-filled event. The tournament is a way to link business with pleasure\, and provides an opportunity for participants to network with other business professionals in a casual and relaxed environment. The tournament memorializes former Chamber President and CEO Gary Gore\, who died in a watercraft accident at Wilson Lake in 2005. Gore was serving as Chamber president at the time of his death\, a position he held for five years.</span><br style="color: rgb(13\, 6\, 0)\; font-family: Georgia\; font-size: 13.3333px\;" />\n<br style="color: rgb(13\, 6\, 0)\; font-family: Georgia\; font-size: 13.3333px\;" />\n<span style="color: rgb(13\, 6\, 0)\; font-family: Georgia\; font-size: 13.3333px\;">Cost to enter the tournament is $100 per player\, or $400 per team. Mulligans and hole contests will be available the day of the tournament. Chamber Gift Certificates (redeemable at 120+ stores in Great Bend) will be awarded to the top three teams in each flight! Tournament luncheon &amp\; a patio party while we await results is included for all golfers. The tournament will also include lots of player hospitality\, hosted beverage carts &amp\; door prizes galore! Top three teams in each flight will receive prizes!</span><br style="color: rgb(13\, 6\, 0)\; font-family: Georgia\; font-size: 13.3333px\;" />\n<br style="color: rgb(13\, 6\, 0)\; font-family: Georgia\; font-size: 13.3333px\;" />\n<span style="color: rgb(13\, 6\, 0)\; font-family: Georgia\; font-size: 13.3333px\;">Individual Registration: $100.00&nbsp\;</span><br style="color: rgb(13\, 6\, 0)\; font-family: Georgia\; font-size: 13.3333px\;" />\n<span style="color: rgb(13\, 6\, 0)\; font-family: Georgia\; font-size: 13.3333px\;">Team Registration: $400.00&nbsp\;</span><br style="color: rgb(13\, 6\, 0)\; font-family: Georgia\; font-size: 13.3333px\;" />\n<span style="color: rgb(13\, 6\, 0)\; font-family: Georgia\; font-size: 13.3333px\;">Hole Sponsorship: $100.00&nbsp\;</span><br style="color: rgb(13\, 6\, 0)\; font-family: Georgia\; font-size: 13.3333px\;" />\n<span style="color: rgb(13\, 6\, 0)\; font-family: Georgia\; font-size: 13.3333px\;">Premium Sponsorship: $200.00&nbsp\;</span><br style="color: rgb(13\, 6\, 0)\; font-family: Georgia\; font-size: 13.3333px\;" />\n<br style="color: rgb(13\, 6\, 0)\; font-family: Georgia\; font-size: 13.3333px\;" />\n<span style="color: rgb(13\, 6\, 0)\; font-family: Georgia\; font-size: 13.3333px\;">Register your team or hole sponsorship online: https://fs23.formsite.com/abauer/GolfTournament/index.html&nbsp\;</span><br style="color: rgb(13\, 6\, 0)\; font-family: Georgia\; font-size: 13.3333px\;" />\n<br style="color: rgb(13\, 6\, 0)\; font-family: Georgia\; font-size: 13.3333px\;" />\n<span style="color: rgb(13\, 6\, 0)\; font-family: Georgia\; font-size: 13.3333px\;">Questions? Contact Andrea Bauer at the Great Bend Chamber of Commerce and Economic Development\, 620-792-2401\, abauer@greatbend.org</span><br style="color: rgb(13\, 6\, 0)\; font-family: Georgia\; font-size: 13.3333px\;" />\n<br style="color: rgb(13\, 6\, 0)\; font-family: Georgia\; font-size: 13.3333px\;" />\n<span style="color: rgb(13\, 6\, 0)\; font-family: Georgia\; font-size: 13.3333px\;">Date - Jun 02\, 2017&nbsp\;</span><br style="color: rgb(13\, 6\, 0)\; font-family: Georgia\; font-size: 13.3333px\;" />\n<span style="color: rgb(13\, 6\, 0)\; font-family: Georgia\; font-size: 13.3333px\;">Time - At 09:00 AM&nbsp\;</span><br style="color: rgb(13\, 6\, 0)\; font-family: Georgia\; font-size: 13.3333px\;" />\n<span style="color: rgb(13\, 6\, 0)\; font-family: Georgia\; font-size: 13.3333px\;">Type - Chamber Event&nbsp\;</span><br style="color: rgb(13\, 6\, 0)\; font-family: Georgia\; font-size: 13.3333px\;" />\n<span style="color: rgb(13\, 6\, 0)\; font-family: Georgia\; font-size: 13.3333px\;">Community - Great Bend&nbsp\;</span><br style="color: rgb(13\, 6\, 0)\; font-family: Georgia\; font-size: 13.3333px\;" />\n<span style="color: rgb(13\, 6\, 0)\; font-family: Georgia\; font-size: 13.3333px\;">Location - Stoneridge Country Club&nbsp\;</span><br style="color: rgb(13\, 6\, 0)\; font-family: Georgia\; font-size: 13.3333px\;" />\n<span style="color: rgb(13\, 6\, 0)\; font-family: Georgia\; font-size: 13.3333px\;">Contact - Andrea Bauer&nbsp\;</span><br style="color: rgb(13\, 6\, 0)\; font-family: Georgia\; font-size: 13.3333px\;" />\n<span style="color: rgb(13\, 6\, 0)\; font-family: Georgia\; font-size: 13.3333px\;">Email -&nbsp\;</span><a href="mailto:abauer@greatbend.org" style="font-family: Georgia\; font-size: 13.3333px\;">abauer@greatbend.org</a><span style="color: rgb(13\, 6\, 0)\; font-family: Georgia\; font-size: 13.3333px\;">&nbsp\;</span><br style="color: rgb(13\, 6\, 0)\; font-family: Georgia\; font-size: 13.3333px\;" />\n<span style="color: rgb(13\, 6\, 0)\; font-family: Georgia\; font-size: 13.3333px\;">Website -&nbsp\;</span><a href="http://fs23.formsite.com/abauer/GolfTournament/index.html" style="font-family: Georgia\; font-size: 13.3333px\;" target="_blank">fs23.formsite.com/abauer/GolfTournament/index.html</a>
LOCATION:
UID:e.2303.1804
SEQUENCE:3
DTSTAMP:20260422T185457Z
URL:https://members.greatbend.org/events/details/12th-annual-gary-gore-memorial-golf-tournament-1804
END:VEVENT

END:VCALENDAR
