BEGIN:VCALENDAR
VERSION:2.0
PRODID:-//ChamberMaster//Event Calendar 2.0//EN
METHOD:PUBLISH
X-PUBLISHED-TTL:P3D
REFRESH-INTERVAL:P3D
CALSCALE:GREGORIAN
BEGIN:VEVENT
DTSTART:20180202T000000Z
DTEND:20180202T013000Z
X-MICROSOFT-CDO-ALLDAYEVENT:FALSE
SUMMARY:15 Year Anniversary Celebration at Country Place Senior Living
DESCRIPTION:Country Place Senior Living in Hoisington is celebrating 15 years with an Anniversary Celebration. You're invited to attend on Thursday\, Feb. 1st from 6 - 7:30 p.m. at 259 W 6th St.\, Hoisington.\n\n\n\nHappy Anniversary!
X-ALT-DESC;FMTTYPE=text/html:Country Place Senior Living in Hoisington is celebrating 15 years with an Anniversary Celebration. You&#39\;re invited to attend on Thursday\, Feb. 1st from 6 - 7:30 p.m. at 259 W 6th St.\, Hoisington.<br />\n<br />\nHappy Anniversary!
LOCATION:259 W 6th Hoisington\, KS
UID:e.2303.3657
SEQUENCE:3
DTSTAMP:20260422T082831Z
URL:https://members.greatbend.org/events/details/15-year-anniversary-celebration-at-country-place-senior-living-3657
END:VEVENT

END:VCALENDAR
