BEGIN:VCALENDAR
VERSION:2.0
PRODID:-//ChamberMaster//Event Calendar 2.0//EN
METHOD:PUBLISH
X-PUBLISHED-TTL:P3D
REFRESH-INTERVAL:P3D
CALSCALE:GREGORIAN
BEGIN:VEVENT
DTSTART:20200201T233000Z
DTEND:20200202T040000Z
X-MICROSOFT-CDO-ALLDAYEVENT:FALSE
SUMMARY:15th Annual CASA Chocolate Auction
DESCRIPTION:15th Annual CASA Chocolate Auction Saturday\, February 1st Great Bend Events Center 3110 10th Street Great Bend\, KS 67530 5:30 PM   Silent Auction\, Cocktails\, Hors D'oeuvres & Chocolate Fountains 7:00 PM   Live Auction
X-ALT-DESC;FMTTYPE=text/html:15th Annual CASA Chocolate Auction Saturday\, February 1st Great Bend Events Center 3110 10th Street Great Bend\, KS 67530 5:30 PM &ndash\; Silent Auction\, Cocktails\, Hors D&rsquo\;oeuvres &amp\; Chocolate Fountains 7:00 PM &ndash\; Live Auction
LOCATION:Great Bend Events Center 3110 10th Street Great Bend\, KS 67530
UID:e.2303.7630
SEQUENCE:3
DTSTAMP:20260419T224731Z
URL:https://members.greatbend.org/events/details/15th-annual-casa-chocolate-auction-7630
END:VEVENT

END:VCALENDAR
