BEGIN:VCALENDAR
VERSION:2.0
PRODID:-//ChamberMaster//Event Calendar 2.0//EN
METHOD:PUBLISH
X-PUBLISHED-TTL:P3D
REFRESH-INTERVAL:P3D
CALSCALE:GREGORIAN
BEGIN:VEVENT
DTSTART:20200229T233000Z
DTEND:20200301T030000Z
X-MICROSOFT-CDO-ALLDAYEVENT:FALSE
SUMMARY:15th Annual Sunflower Diversified Services Gala
DESCRIPTION:The 15th annual Gala begins with a social hour at 5:30 p.m. on Feb. 29 at the Great Bend Events Center\, 3111 10th. Participants can expect a catered meal from Ellsworth Steak House\, open bar and wine at every table. Auctioneer Mike Niedens and Emcee Scott Donovan will keep the audience entertained again this year. A seat at the Gala is $100. Contact Oetken by calling 620-792-1325 for more information\, to donate and/or make a reservation.
X-ALT-DESC;FMTTYPE=text/html:The 15th annual Gala begins with a social hour at 5:30 p.m. on Feb. 29 at the Great Bend Events Center\, 3111 10th. Participants can expect a catered meal from Ellsworth Steak House\, open bar and wine at every table. Auctioneer Mike Niedens and Emcee Scott Donovan will keep the audience entertained again this year. A seat at the Gala is $100. Contact Oetken by calling 620-792-1325 for more information\, to donate and/or make a reservation.
LOCATION:
UID:e.2303.7542
SEQUENCE:3
DTSTAMP:20260420T002907Z
URL:https://members.greatbend.org/events/details/15th-annual-sunflower-diversified-services-gala-7542
END:VEVENT

END:VCALENDAR
