BEGIN:VCALENDAR
VERSION:2.0
PRODID:-//ChamberMaster//Event Calendar 2.0//EN
METHOD:PUBLISH
X-PUBLISHED-TTL:P3D
REFRESH-INTERVAL:P3D
CALSCALE:GREGORIAN
BEGIN:VEVENT
DTSTART;VALUE=DATE:20230201
DTEND;VALUE=DATE:20230321
TRANSP:TRANSPARENT
X-MICROSOFT-CDO-ALLDAYEVENT:TRUE
SUMMARY:2023 Nursery Tree Sale
DESCRIPTION:Barton County Conservation District \n\nbcconcervation.dis@gmail.com\n\n620-792-3346
X-ALT-DESC;FMTTYPE=text/html:Barton County Conservation District&nbsp\;<br />\nbcconcervation.dis@gmail.com<br />\n620-792-3346
LOCATION:
UID:e.2303.11723
SEQUENCE:3
DTSTAMP:20260424T214936Z
URL:https://members.greatbend.org/events/details/2023-nursery-tree-sale-11723
END:VEVENT

END:VCALENDAR
