BEGIN:VCALENDAR
VERSION:2.0
PRODID:-//ChamberMaster//Event Calendar 2.0//EN
METHOD:PUBLISH
X-PUBLISHED-TTL:P3D
REFRESH-INTERVAL:P3D
CALSCALE:GREGORIAN
BEGIN:VEVENT
DTSTART:20200922T000000Z
DTEND:20200922T010000Z
X-MICROSOFT-CDO-ALLDAYEVENT:FALSE
SUMMARY:$20K Summer Payday
DESCRIPTION:Grand Prize winner receives $20\, 000
X-ALT-DESC;FMTTYPE=text/html:Grand Prize winner receives $20\, 000
LOCATION:Jack Kilby Square
UID:e.2303.8029
SEQUENCE:3
DTSTAMP:20260425T123228Z
URL:https://members.greatbend.org/events/details/20k-summer-payday-8029
END:VEVENT

END:VCALENDAR
