BEGIN:VCALENDAR
VERSION:2.0
PRODID:-//ChamberMaster//Event Calendar 2.0//EN
METHOD:PUBLISH
X-PUBLISHED-TTL:P3D
REFRESH-INTERVAL:P3D
CALSCALE:GREGORIAN
BEGIN:VEVENT
DTSTART:20170826T230000Z
DTEND:20170827T040000Z
X-MICROSOFT-CDO-ALLDAYEVENT:FALSE
SUMMARY:39th Annual Big Benefit Auction - Barton Community College Foundation
DESCRIPTION:Tickets for the Barton Foundation's 39th Annual Big Benefit Auction themed "Under the Sea" are available July 17 until Aug. 14. Tickets are $45 each or $360 per table of eight. Doors open at 6 p.m. at the Great Bend Knights of Columbus with bidding on the silent auction and complimentary beer available until 8 p.m. Dinner is served at 7 p.m. and the live auction will begin promptly at 8 p.m.\n\nThe Big Benefit Auction is the most successful and longest running fundraiser for the Barton Foundation. The money raised from the event supports academic scholarships\, along with enhancements to programs and facilities which directly impact the learning experience of Barton students.\n\nColeen Cape\, Executive Director of Institutional Advancement encourages everyone to buy their tickets early   as no tickets are sold at the door. Only 200 tickets are available.\n\n"I am so excited by the quality and uniqueness of the items being donated this year\," Cape said. "The auction is truly a community event and would not be possible if not for the generosity and support of local businesses and individuals."\n\nTickets can be purchased by calling the Barton Foundation office at (620) 792-9306 or by sending an email to mccormickd@bartonccc.edu.
X-ALT-DESC;FMTTYPE=text/html:<p style="box-sizing: border-box\; font-size: 18.7857px\; margin: 0px 0px 21px\; color: rgb(0\, 0\, 0)\; font-family: museo_sans300\, Arial\, Helvetica\, sans-serif\; word-spacing: 1px\;">Tickets for the Barton Foundation&rsquo\;s 39th Annual Big Benefit Auction themed &ldquo\;Under the Sea&rdquo\; are available July 17 until Aug. 14. Tickets are $45 each or $360 per table of eight. Doors open at 6 p.m. at the Great Bend Knights of Columbus with bidding on the silent auction and complimentary beer available until 8 p.m. Dinner is served at 7 p.m. and the live auction will begin promptly at 8 p.m.</p>\n\n<p style="box-sizing: border-box\; font-size: 18.7857px\; margin: 0px 0px 21px\; color: rgb(0\, 0\, 0)\; font-family: museo_sans300\, Arial\, Helvetica\, sans-serif\; word-spacing: 1px\;">The Big Benefit Auction is the most successful and longest running fundraiser for the Barton Foundation. The money raised from the event supports academic scholarships\, along with enhancements to programs and facilities which directly impact the learning experience of Barton students.</p>\n\n<p style="box-sizing: border-box\; font-size: 18.7857px\; margin: 0px 0px 21px\; color: rgb(0\, 0\, 0)\; font-family: museo_sans300\, Arial\, Helvetica\, sans-serif\; word-spacing: 1px\;">Coleen Cape\, Executive Director of Institutional Advancement encourages everyone to buy their tickets early &ndash\; as no tickets are sold at the door. Only 200 tickets are available.</p>\n\n<p style="box-sizing: border-box\; font-size: 18.7857px\; margin: 0px 0px 21px\; color: rgb(0\, 0\, 0)\; font-family: museo_sans300\, Arial\, Helvetica\, sans-serif\; word-spacing: 1px\;">&ldquo\;I am so excited by the quality and uniqueness of the items being donated this year\,&rdquo\; Cape said. &ldquo\;The auction is truly a community event and would not be possible if not for the generosity and support of local businesses and individuals.&rdquo\;</p>\n\n<p style="box-sizing: border-box\; font-size: 18.7857px\; margin: 0px 0px 21px\; color: rgb(0\, 0\, 0)\; font-family: museo_sans300\, Arial\, Helvetica\, sans-serif\; word-spacing: 1px\;">Tickets can be purchased by calling the Barton Foundation office at (620) 792-9306 or by sending an email to&nbsp\;<a href="mailto:mccormickd@bartonccc.edu" style="box-sizing: border-box\; font-size: 18.7875px\; background: transparent\; color: rgb(1\, 119\, 193)\;">mccormickd@bartonccc.edu</a>.</p>\n
LOCATION:Great Bend Columbus Club 723 Main Great Bend\, KS 67530
UID:e.2303.3012
SEQUENCE:3
DTSTAMP:20260422T161158Z
URL:https://members.greatbend.org/events/details/39th-annual-big-benefit-auction-barton-community-college-foundation-3012
END:VEVENT

END:VCALENDAR
