BEGIN:VCALENDAR
VERSION:2.0
PRODID:-//ChamberMaster//Event Calendar 2.0//EN
METHOD:PUBLISH
X-PUBLISHED-TTL:P3D
REFRESH-INTERVAL:P3D
CALSCALE:GREGORIAN
BEGIN:VEVENT
DTSTART:20170421T180000Z
DTEND:20170422T020000Z
X-MICROSOFT-CDO-ALLDAYEVENT:FALSE
SUMMARY:5th Annual Barton Booster Club Golf Tournament
DESCRIPTION:1 p.m. shotgun start\, $100 per person\; four people to a team. Cost includes golf cart and fees. There will be hole prizes\, a dinner and raffle and the Schugart Shootout. Proceeds benefit Cougar athletics. Hole sponsorships can be purchased for $100.
X-ALT-DESC;FMTTYPE=text/html:<span style="color: rgb(13\, 6\, 0)\; font-family: Georgia\; font-size: 13.3333px\;">1 p.m. shotgun start\, $100 per person\; four people to a team. Cost includes golf cart and fees. There will be hole prizes\, a dinner and raffle and the Schugart Shootout. Proceeds benefit Cougar athletics. Hole sponsorships can be purchased for $100.</span>
LOCATION:Stoneridge Country Club 1438 24th St Great Bend\, KS 67530
UID:e.2303.1006
SEQUENCE:3
DTSTAMP:20260422T222354Z
URL:https://members.greatbend.org/events/details/5th-annual-barton-booster-club-golf-tournament-1006
END:VEVENT

END:VCALENDAR
