BEGIN:VCALENDAR
VERSION:2.0
PRODID:-//ChamberMaster//Event Calendar 2.0//EN
METHOD:PUBLISH
X-PUBLISHED-TTL:P3D
REFRESH-INTERVAL:P3D
CALSCALE:GREGORIAN
BEGIN:VEVENT
DTSTART:20170812T130000Z
DTEND:20170813T043000Z
X-MICROSOFT-CDO-ALLDAYEVENT:FALSE
SUMMARY:5th Annual Party in the Park
DESCRIPTION:The date is set for AUGUST 12th!! The last Big Party before School Starts! Come To Vets Park and Share it with your family and friends!\n\nThe last Big Party before School Starts! Come To Vets Park and Share it with your family and friends! Events include Obstacle Mud Run\, Parade\, Inflatable Fun Zone\, Car Show\, Dog Park Fun\, Concert\, Fireworks over the lake and so much more! \n\nVeteran's Memorial Park from 8am   midnight
X-ALT-DESC;FMTTYPE=text/html:<span style="font-size:14px\;"><span style="font-family:times new roman\;">The date is set for AUGUST 12th!! The last Big Party before School Starts! Come To Vets Park and Share it with your family and friends!<br />\nThe last Big Party before School Starts! Come To Vets Park and Share it with your family and friends! Events include Obstacle Mud Run\, Parade\, Inflatable Fun Zone\, Car Show\, Dog Park Fun\, Concert\, Fireworks over the lake and so much more!&nbsp\;<br style="color: rgb(102\, 0\, 0)\; font-family: Tahoma\, Arial\, Verdana\;" />\nVeteran&rsquo\;s Memorial Park from 8am &ndash\; midnight</span></span>
LOCATION:Veterans Memorial Park & Lake 17th Street and McKinley Street
UID:e.2303.1683
SEQUENCE:3
DTSTAMP:20260422T155630Z
URL:https://members.greatbend.org/events/details/5th-annual-party-in-the-park-1683
END:VEVENT

END:VCALENDAR
