BEGIN:VCALENDAR
VERSION:2.0
PRODID:-//ChamberMaster//Event Calendar 2.0//EN
METHOD:PUBLISH
X-PUBLISHED-TTL:P3D
REFRESH-INTERVAL:P3D
CALSCALE:GREGORIAN
BEGIN:VEVENT
DTSTART:20201031T000000Z
DTEND:20201031T010000Z
X-MICROSOFT-CDO-ALLDAYEVENT:FALSE
SUMMARY:82nd Anniversary Broadcast of Orson Welles War of the Worlds Broadcast
DESCRIPTION:Join us on Facebook Live to listen to a very special 82nd Anniversary broadcast of Orson Welles War of the Worlds radio play. Listen to the radio play that shocked and scared a nation on October 30th 82 years ago. Join us for this will be a fun and spooky Halloween event!
X-ALT-DESC;FMTTYPE=text/html:Join us on Facebook Live to listen to a very special 82nd Anniversary broadcast of Orson Welles War of the Worlds radio play. Listen to the radio play that shocked and scared a nation on October 30th 82 years ago. Join us for this will be a fun and spooky Halloween event!
LOCATION:Great Bend Library Facebook page
UID:e.2303.8085
SEQUENCE:3
DTSTAMP:20260425T105334Z
URL:https://members.greatbend.org/events/details/82nd-anniversary-broadcast-of-orson-welles-war-of-the-worlds-broadcast-8085
END:VEVENT

END:VCALENDAR
