BEGIN:VCALENDAR
VERSION:2.0
PRODID:-//ChamberMaster//Event Calendar 2.0//EN
METHOD:PUBLISH
X-PUBLISHED-TTL:P3D
REFRESH-INTERVAL:P3D
CALSCALE:GREGORIAN
BEGIN:VEVENT
DTSTART:20180121T200000Z
DTEND:20180121T220000Z
X-MICROSOFT-CDO-ALLDAYEVENT:FALSE
SUMMARY:A Bride's Day
DESCRIPTION:On January 21st\, Eagle Radio will be hosting "A Bride's Day" at the Best Western Courtyard. 20 Vendors will be showing their products for brides to be.
X-ALT-DESC;FMTTYPE=text/html:On January 21st\, Eagle Radio will be hosting &quot\;A Bride&#39\;s Day&quot\; at the Best Western Courtyard. 20 Vendors will be showing their products for brides to be.
LOCATION:Best Western Courtyard
UID:e.2303.3626
SEQUENCE:3
DTSTAMP:20260422T092228Z
URL:https://members.greatbend.org/events/details/a-bride-s-day-3626
END:VEVENT

END:VCALENDAR
