BEGIN:VCALENDAR
VERSION:2.0
PRODID:-//ChamberMaster//Event Calendar 2.0//EN
METHOD:PUBLISH
X-PUBLISHED-TTL:P3D
REFRESH-INTERVAL:P3D
CALSCALE:GREGORIAN
BEGIN:VEVENT
DTSTART:20201022T150000Z
DTEND:20201022T230000Z
X-MICROSOFT-CDO-ALLDAYEVENT:FALSE
SUMMARY:Adult & Teen Craft Take & Make Pumpkin Garland
DESCRIPTION:Our next take & make craft will be available for Adults & Teens October 22nd. With yarn\, pipe cleaner\, and twine make a cute Pumpkin Garland for the Fall. Instructions included in the bag.
X-ALT-DESC;FMTTYPE=text/html:Our next take &amp\; make craft will be available for Adults &amp\; Teens October 22nd. With yarn\, pipe cleaner\, and twine make a cute Pumpkin Garland for the Fall. Instructions included in the bag.
LOCATION:Great Bend Public Library
UID:e.2303.8083
SEQUENCE:3
DTSTAMP:20260425T123955Z
URL:https://members.greatbend.org/events/details/adult-teen-craft-take-make-pumpkin-garland-8083
END:VEVENT

END:VCALENDAR
