BEGIN:VCALENDAR
VERSION:2.0
PRODID:-//ChamberMaster//Event Calendar 2.0//EN
METHOD:PUBLISH
X-PUBLISHED-TTL:P3D
REFRESH-INTERVAL:P3D
CALSCALE:GREGORIAN
BEGIN:VEVENT
DTSTART:20170914T210000Z
DTEND:20170914T230000Z
X-MICROSOFT-CDO-ALLDAYEVENT:FALSE
SUMMARY:Alzheimer's Disease:The 21st Century Epidemic
DESCRIPTION:Stacy Tew-Lovasz\, Regional Leader of the Alzheimer's Association will be the presenter. She will share information: *Research Update-News from around the Globe *Know the 10 Signs of Alzheimer's -Resources and Support *Partial Viewing of the Glen Campbell Documentary- "I'll Be Me" Information on the Walk to End Alzheimer's
X-ALT-DESC;FMTTYPE=text/html:Stacy Tew-Lovasz\, Regional Leader of the Alzheimer&#39\;s Association will be the presenter. She will share information: *Research Update-News from around the Globe *Know the 10 Signs of Alzheimer&#39\;s -Resources and Support *Partial Viewing of the Glen Campbell Documentary- &quot\;I&#39\;ll Be Me&quot\; Information on the Walk to End Alzheimer&#39\;s
LOCATION:Trinity United Methodist Church 5700 Broadway Great Bend\, KS
UID:e.2303.3367
SEQUENCE:3
DTSTAMP:20260422T150337Z
URL:https://members.greatbend.org/events/details/alzheimer-s-disease-the-21st-century-epidemic-3367
END:VEVENT

END:VCALENDAR
