BEGIN:VCALENDAR
VERSION:2.0
PRODID:-//ChamberMaster//Event Calendar 2.0//EN
METHOD:PUBLISH
X-PUBLISHED-TTL:P3D
REFRESH-INTERVAL:P3D
CALSCALE:GREGORIAN
BEGIN:VEVENT
DTSTART:20170415T143000Z
DTEND:20170415T170000Z
X-MICROSOFT-CDO-ALLDAYEVENT:FALSE
SUMMARY:Annual Kiwanis Easter Egg Hunt
DESCRIPTION:The Great Bend Kiwanis Club invites the community to enjoy their Annual Easter Egg Hunt scheduled for Saturday\, April 15th. Located on the North side of Veterans Memorial Park in Great Bend\, the hunt begins promptly 9:30 a.m. and is intended for children age toddler - 6th grade. \n\n\n\nKiwanis is a global organization of volunteers dedicated to improving the world\, one child and one community at a time. Recently\, Kiwanis was a community partner on the instillation of the Fit Trail located at Veterans Memorial Park. \n\n\n\nHoppy Easter!\n\n\n\nDate - Apr 15\, 2017 \n\nTime - At 09:30 AM \n\nType - Community Event \n\nCommunity - Great Bend \n\nLocation - Veterans Memorial Park
X-ALT-DESC;FMTTYPE=text/html:<span style="color: rgb(13\, 6\, 0)\; font-family: Georgia\; font-size: 13.3333px\;">The Great Bend Kiwanis Club invites the community to enjoy their Annual Easter Egg Hunt scheduled for Saturday\, April 15th. Located on the North side of Veterans Memorial Park in Great Bend\, the hunt begins promptly 9:30 a.m. and is intended for children age toddler - 6th grade.&nbsp\;</span><br style="color: rgb(13\, 6\, 0)\; font-family: Georgia\; font-size: 13.3333px\;" />\n<br style="color: rgb(13\, 6\, 0)\; font-family: Georgia\; font-size: 13.3333px\;" />\n<span style="color: rgb(13\, 6\, 0)\; font-family: Georgia\; font-size: 13.3333px\;">Kiwanis is a global organization of volunteers dedicated to improving the world\, one child and one community at a time. Recently\, Kiwanis was a community partner on the instillation of the Fit Trail located at Veterans Memorial Park.&nbsp\;</span><br style="color: rgb(13\, 6\, 0)\; font-family: Georgia\; font-size: 13.3333px\;" />\n<br style="color: rgb(13\, 6\, 0)\; font-family: Georgia\; font-size: 13.3333px\;" />\n<span style="color: rgb(13\, 6\, 0)\; font-family: Georgia\; font-size: 13.3333px\;">Hoppy Easter!</span><br style="color: rgb(13\, 6\, 0)\; font-family: Georgia\; font-size: 13.3333px\;" />\n<br style="color: rgb(13\, 6\, 0)\; font-family: Georgia\; font-size: 13.3333px\;" />\n<span style="color: rgb(13\, 6\, 0)\; font-family: Georgia\; font-size: 13.3333px\;">Date - Apr 15\, 2017&nbsp\;</span><br style="color: rgb(13\, 6\, 0)\; font-family: Georgia\; font-size: 13.3333px\;" />\n<span style="color: rgb(13\, 6\, 0)\; font-family: Georgia\; font-size: 13.3333px\;">Time - At 09:30 AM&nbsp\;</span><br style="color: rgb(13\, 6\, 0)\; font-family: Georgia\; font-size: 13.3333px\;" />\n<span style="color: rgb(13\, 6\, 0)\; font-family: Georgia\; font-size: 13.3333px\;">Type - Community Event&nbsp\;</span><br style="color: rgb(13\, 6\, 0)\; font-family: Georgia\; font-size: 13.3333px\;" />\n<span style="color: rgb(13\, 6\, 0)\; font-family: Georgia\; font-size: 13.3333px\;">Community - Great Bend&nbsp\;</span><br style="color: rgb(13\, 6\, 0)\; font-family: Georgia\; font-size: 13.3333px\;" />\n<span style="color: rgb(13\, 6\, 0)\; font-family: Georgia\; font-size: 13.3333px\;">Location - Veterans Memorial Park</span>
LOCATION:
UID:e.2303.1731
SEQUENCE:3
DTSTAMP:20260422T220308Z
URL:https://members.greatbend.org/events/details/annual-kiwanis-easter-egg-hunt-1731
END:VEVENT

END:VCALENDAR
