BEGIN:VCALENDAR
VERSION:2.0
PRODID:-//ChamberMaster//Event Calendar 2.0//EN
METHOD:PUBLISH
X-PUBLISHED-TTL:P3D
REFRESH-INTERVAL:P3D
CALSCALE:GREGORIAN
BEGIN:VEVENT
DTSTART:20180816T210000Z
DTEND:20180817T020000Z
X-MICROSOFT-CDO-ALLDAYEVENT:FALSE
SUMMARY:Back to School Bash @TheBuckle!
DESCRIPTION:Let The Buckle in downtown Great Bend help you get geared up for Back to School in a fun and simple way! Step into your first day of school looking and feeling great with an evening just for you! We will have awesome Back to School giveaways you won't want to miss. Bring a friend in and get an extra ticket for a chance to win a back to school prize. Check out our Facebook Event for all the details!\n\n\n\nThursday\, August 16th\n\n4 - 9PM\n\nDowntown Great Bend
X-ALT-DESC;FMTTYPE=text/html:Let The Buckle in downtown Great Bend help you get geared up for Back to School in a fun and simple way! Step into your first day of school looking and feeling great with an evening just for you! We will have awesome Back to School giveaways you won&rsquo\;t want to miss. Bring a friend in and get an extra ticket for a chance to win a back to school prize. Check out our Facebook Event for all the details!<br />\n<br />\nThursday\, August 16th<br />\n4 - 9PM<br />\nDowntown Great Bend
LOCATION:
UID:e.2303.6134
SEQUENCE:3
DTSTAMP:20260422T082118Z
URL:https://members.greatbend.org/events/details/back-to-school-bash-thebuckle-6134
END:VEVENT

END:VCALENDAR
