BEGIN:VCALENDAR
VERSION:2.0
PRODID:-//ChamberMaster//Event Calendar 2.0//EN
METHOD:PUBLISH
X-PUBLISHED-TTL:P3D
REFRESH-INTERVAL:P3D
CALSCALE:GREGORIAN
BEGIN:VEVENT
DTSTART:20170812T130000Z
DTEND:20170813T010000Z
X-MICROSOFT-CDO-ALLDAYEVENT:FALSE
SUMMARY:Back to School Sales in Participating Stores
DESCRIPTION:Participating stores are slashing their prices for you right before the school year begins. Buy what you need or what you want right here in Great Bend! Store hours and restrictions may vary.
X-ALT-DESC;FMTTYPE=text/html:<span style="color: rgb(13\, 6\, 0)\; font-family: Georgia\; font-size: 13.3333px\;">Participating stores are slashing their prices for you right before the school year begins. Buy what you need or what you want right here in Great Bend! Store hours and restrictions may vary.</span>
LOCATION:
UID:e.2303.3028
SEQUENCE:3
DTSTAMP:20260422T155915Z
URL:https://members.greatbend.org/events/details/back-to-school-sales-in-participating-stores-3028
END:VEVENT

END:VCALENDAR
