BEGIN:VCALENDAR
VERSION:2.0
PRODID:-//ChamberMaster//Event Calendar 2.0//EN
METHOD:PUBLISH
X-PUBLISHED-TTL:P3D
REFRESH-INTERVAL:P3D
CALSCALE:GREGORIAN
BEGIN:VEVENT
DTSTART;VALUE=DATE:20170812
DTEND;VALUE=DATE:20170813
TRANSP:TRANSPARENT
X-MICROSOFT-CDO-ALLDAYEVENT:TRUE
SUMMARY:Back to School We Pay The Tax Sale @ Participating Stores
DESCRIPTION:Check out all the great deals for the Back To School We Pay The Tax Sale! Let the stores pay the sales tax for you\, buy what you love and spend where you live!\n\n\n\nLook for the poster with the green apple to take advantage of specials in participating stores. \n\n\n\nParticipating stores are slashing their prices for you right before the school year begins. Buy what you need or what you want right here in Great Bend!\n\n\n\nStore hours and restrictions may vary.
X-ALT-DESC;FMTTYPE=text/html:<span style="color: rgb(13\, 6\, 0)\; font-family: Georgia\; font-size: 13.3333px\;">Check out all the great deals for the Back To School We Pay The Tax Sale! Let the stores pay the sales tax for you\, buy what you love and spend where you live!</span><br style="color: rgb(13\, 6\, 0)\; font-family: Georgia\; font-size: 13.3333px\;" />\n<br style="color: rgb(13\, 6\, 0)\; font-family: Georgia\; font-size: 13.3333px\;" />\n<span style="color: rgb(13\, 6\, 0)\; font-family: Georgia\; font-size: 13.3333px\;">Look for the poster with the green apple to take advantage of specials in participating stores.&nbsp\;</span><br style="color: rgb(13\, 6\, 0)\; font-family: Georgia\; font-size: 13.3333px\;" />\n<br style="color: rgb(13\, 6\, 0)\; font-family: Georgia\; font-size: 13.3333px\;" />\n<span style="color: rgb(13\, 6\, 0)\; font-family: Georgia\; font-size: 13.3333px\;">Participating stores are slashing their prices for you right before the school year begins. Buy what you need or what you want right here in Great Bend!</span><br style="color: rgb(13\, 6\, 0)\; font-family: Georgia\; font-size: 13.3333px\;" />\n<br style="color: rgb(13\, 6\, 0)\; font-family: Georgia\; font-size: 13.3333px\;" />\n<span style="color: rgb(13\, 6\, 0)\; font-family: Georgia\; font-size: 13.3333px\;">Store hours and restrictions may vary.</span>
LOCATION:Great Bend retailers
UID:e.2303.3054
SEQUENCE:3
DTSTAMP:20260422T160636Z
URL:https://members.greatbend.org/events/details/back-to-school-we-pay-the-tax-sale-participating-stores-3054
END:VEVENT

END:VCALENDAR
