BEGIN:VCALENDAR
VERSION:2.0
PRODID:-//ChamberMaster//Event Calendar 2.0//EN
METHOD:PUBLISH
X-PUBLISHED-TTL:P3D
REFRESH-INTERVAL:P3D
CALSCALE:GREGORIAN
BEGIN:VEVENT
DTSTART:20200303T000000Z
DTEND:20200303T030000Z
X-MICROSOFT-CDO-ALLDAYEVENT:FALSE
SUMMARY:Barn Quilt 2'x'2' (2 day class)
DESCRIPTION:This is a 2 day class. 1st day Monday\, 3/2/20 6-9. 2nd day Tues. 3/10/20 6-9. We found it takes around 6 hours to get this one done! 2ft x 2ft Barn Quilt on MDO board which is safe to put outside in the elements! I am so excited to offer this class to you all\, I have been wanting to do this for the last two years! I will have several different quilt designs blown up for you to choose from and trace. You can then decide on the colors you would like to paint your original Barn Quilt! Space will be limited just because of the size of this project so make sure to get registered
X-ALT-DESC;FMTTYPE=text/html:This is a 2 day class. 1st day Monday\, 3/2/20 6-9. 2nd day Tues. 3/10/20 6-9. We found it takes around 6 hours to get this one done! 2ft x 2ft Barn Quilt on MDO board which is safe to put outside in the elements! I am so excited to offer this class to you all\, I have been wanting to do this for the last two years! I will have several different quilt designs blown up for you to choose from and trace. You can then decide on the colors you would like to paint your original Barn Quilt! Space will be limited just because of the size of this project so make sure to get registered
LOCATION:1119 Main St.
UID:e.2303.7701
SEQUENCE:3
DTSTAMP:20260419T210257Z
URL:https://members.greatbend.org/events/details/barn-quilt-2-x-2-2-day-class-7701
END:VEVENT

END:VCALENDAR
