BEGIN:VCALENDAR
VERSION:2.0
PRODID:-//ChamberMaster//Event Calendar 2.0//EN
METHOD:PUBLISH
X-PUBLISHED-TTL:P3D
REFRESH-INTERVAL:P3D
CALSCALE:GREGORIAN
BEGIN:VEVENT
DTSTART:20200219T233000Z
DTEND:20200220T040000Z
X-MICROSOFT-CDO-ALLDAYEVENT:FALSE
SUMMARY:Barton Basketball Hall of Fame Night
DESCRIPTION:Barton Men and Women's Basketball and Hall of Fame Night
X-ALT-DESC;FMTTYPE=text/html:Barton Men and Women&#39\;s Basketball and Hall of Fame Night
LOCATION:Barton Community College 245 NE 30 Rd
UID:e.2303.7708
SEQUENCE:3
DTSTAMP:20260420T002955Z
URL:https://members.greatbend.org/events/details/barton-basketball-hall-of-fame-night-7708
END:VEVENT

END:VCALENDAR
