BEGIN:VCALENDAR
VERSION:2.0
PRODID:-//ChamberMaster//Event Calendar 2.0//EN
METHOD:PUBLISH
X-PUBLISHED-TTL:P3D
REFRESH-INTERVAL:P3D
CALSCALE:GREGORIAN
BEGIN:VEVENT
DTSTART:20210515T000000Z
DTEND:20210515T020000Z
X-MICROSOFT-CDO-ALLDAYEVENT:FALSE
SUMMARY:Barton Community College 51st Annual Commencement
DESCRIPTION:Join us for Barton's 51st Annual Commencement on the Barton County Campus! Students being recognized are those who have completed their GED\, certificates and/or associate degrees. Visit the Graduation webpage for more information! Looking for graduation photos? Visit bartonccc.edu/gradpics for instructions and links!\n\nFriday\, May 14\, 2020\n\n7 p.m.\n\nBarton Gymnasium\, Barton County Campus\n\nContact\n\nLori Crowther\n\n(620) 792-9252
X-ALT-DESC;FMTTYPE=text/html:<span style="color:black\;"><span style="font-size:12.0pt\;">Join us for&nbsp\;Barton&rsquo\;s 51st Annual Commencement on the Barton County Campus! Students being recognized are those who have completed their GED\, certificates and/or associate degrees. Visit the&nbsp\;<a href="https://bartonccc.edu/graduation"><span style="color:#0177C1\;">Graduation webpage</span></a>&nbsp\;for more information!&nbsp\;Looking for graduation photos? Visit&nbsp\;<a href="https://bartonccc.edu/gradpics"><span style="color:#0177C1\;">bartonccc.edu/gradpics</span></a>&nbsp\;for instructions and links!</span></span><br />\n<span style="color:black\;"><span style="font-size:12.0pt\;">Friday\, May 14\, 2020<br />\n7 p.m.<br />\nBarton Gymnasium\, Barton County Campus</span></span><br />\n<strong><span style="color:black\;"><span style="font-size:12.0pt\;">Contact</span></span></strong><br />\n<span style="color:black\;"><span style="font-size:12.0pt\;">Lori Crowther<br />\n(620) 792-9252</span></span><br />\n&nbsp\;
LOCATION:Barton Gymnasium\, Barton County Campus 245 NE 30 Road in Great Bend
UID:e.2303.8260
SEQUENCE:3
DTSTAMP:20260422T203213Z
URL:https://members.greatbend.org/events/details/barton-community-college-51st-annual-commencement-8260
END:VEVENT

END:VCALENDAR
