BEGIN:VCALENDAR
VERSION:2.0
PRODID:-//ChamberMaster//Event Calendar 2.0//EN
METHOD:PUBLISH
X-PUBLISHED-TTL:P3D
REFRESH-INTERVAL:P3D
CALSCALE:GREGORIAN
BEGIN:VEVENT
DTSTART:20230224T153000Z
DTEND:20230224T220000Z
X-MICROSOFT-CDO-ALLDAYEVENT:FALSE
SUMMARY:Barton Cougar Dance Day
DESCRIPTION:Dance students interested in learning more about dancing in college are invited to attend Barton Community College's 3rd annual Barton Cougar Dance Day. Dancers aged 13-19 years are welcome to join in a day-in-the-life in our dance department with our current dance students. During the event participants will take short dance classes\, attend dance information seminars\, rehearse with Barton's dance company - Barton Dance Theatre\, and more. If you ever wondered what dancing in college is like\, then sign-up!
X-ALT-DESC;FMTTYPE=text/html:<span style="color: rgb(0\, 0\, 0)\; font-family: Arial\, Helvetica\, sans-serif\; font-size: small\;">Dance students interested in learning more about dancing in college are invited to attend Barton Community College&rsquo\;s 3rd annual Barton Cougar Dance Day. Dancers aged 13-19 years are welcome to join in a day-in-the-life in our dance department with our current dance students. During the event participants will take short dance classes\, attend dance information seminars\, rehearse with Barton&rsquo\;s dance company - Barton Dance Theatre\, and more. If you ever wondered what dancing in college is like\, then sign-up!</span>
LOCATION:Barton Community College\, 245 NE 30 Rd
UID:e.2303.11624
SEQUENCE:3
DTSTAMP:20260424T214245Z
URL:https://members.greatbend.org/events/details/barton-cougar-dance-day-11624
END:VEVENT

END:VCALENDAR
