BEGIN:VCALENDAR
VERSION:2.0
PRODID:-//ChamberMaster//Event Calendar 2.0//EN
METHOD:PUBLISH
X-PUBLISHED-TTL:P3D
REFRESH-INTERVAL:P3D
CALSCALE:GREGORIAN
BEGIN:VEVENT
DTSTART:20171027T213000Z
DTEND:20171028T000000Z
X-MICROSOFT-CDO-ALLDAYEVENT:FALSE
SUMMARY:Barton County Association of Churches Annual Soup Supper
DESCRIPTION:The Barton County Association of Churches Annual Soup Supper benefiting Emergency Aid will be on Friday\, October 27th from 4:30-7:00 pm at St. Rose Auditorium. The menu consists of homemade chicken noodle soup\, crackers\, and pie or cake. Dine-in and carryout available. Free will donations will be accepted at the door.
X-ALT-DESC;FMTTYPE=text/html:The Barton County Association of Churches Annual Soup Supper benefiting Emergency Aid will be on Friday\, October 27th from 4:30-7:00 pm at St. Rose Auditorium. The menu consists of homemade chicken noodle soup\, crackers\, and pie or cake. Dine-in and carryout available. Free will donations will be accepted at the door.
LOCATION:St. Rose Auditorium 1412 Baker St Great Bend\, KS
UID:e.2303.3443
SEQUENCE:3
DTSTAMP:20260422T133104Z
URL:https://members.greatbend.org/events/details/barton-county-association-of-churches-annual-soup-supper-10-27-2017-3443
END:VEVENT

END:VCALENDAR
