BEGIN:VCALENDAR
VERSION:2.0
PRODID:-//ChamberMaster//Event Calendar 2.0//EN
METHOD:PUBLISH
X-PUBLISHED-TTL:P3D
REFRESH-INTERVAL:P3D
CALSCALE:GREGORIAN
BEGIN:VEVENT
DTSTART:20200220T233000Z
DTEND:20200221T023000Z
X-MICROSOFT-CDO-ALLDAYEVENT:FALSE
SUMMARY:Barton County Conservation District Annual Meeting
DESCRIPTION:There will be a social hour with open bar (beer and wine)\, whole hog roast meal\, short meeting\, door prizes and a raffle.
X-ALT-DESC;FMTTYPE=text/html:There will be a social hour with open bar (beer and wine)\, whole hog roast meal\, short meeting\, door prizes and a raffle.
LOCATION:Knights of Columbus 114 North Main Hoisington\, KS
UID:e.2303.7584
SEQUENCE:3
DTSTAMP:20260419T224724Z
URL:https://members.greatbend.org/events/details/barton-county-conservation-district-annual-meeting-7584
END:VEVENT

END:VCALENDAR
