BEGIN:VCALENDAR
VERSION:2.0
PRODID:-//ChamberMaster//Event Calendar 2.0//EN
METHOD:PUBLISH
X-PUBLISHED-TTL:P3D
REFRESH-INTERVAL:P3D
CALSCALE:GREGORIAN
BEGIN:VEVENT
DTSTART;VALUE=DATE:20240606
DTEND;VALUE=DATE:20240607
TRANSP:TRANSPARENT
X-MICROSOFT-CDO-ALLDAYEVENT:TRUE
SUMMARY:Barton County Core Community: What is a Core Friend?
DESCRIPTION:A Friend is an individual from the middle class or Wealth interested in coming alongside someone making the journey out of Poverty. You do not need to be an expert\, just be a friend! Commitment: - One night a month for 18 months starting 8/1/2024 - Participate in 3 Keys nights leading up to your commitment Night 1: Mixer Night... fun night for Core Leaders and potential friends to meet and get to know each other. (5/23/2024) Night 2: Why Core Night... This is the night we get excited (and for us old-timers reminded why we are here)! What is Core all about? How we are at the Core changing Lives and Our Community Together! (5/30/2024) Nionight 3: Match Night... Aw the best night\, when Core Leaders and Core Friends are matched together. Let the Friendships and Growing begin! (6/06/2024) For more information please contact: Jan Perez @ (620) 792 - 7995 call or email janperez@essdack.org (620) 200 - 2419 call or text and email rachelellson@essdack.org
X-ALT-DESC;FMTTYPE=text/html:A Friend is an individual from the middle class or Wealth interested in coming alongside someone making the journey out of Poverty. You do not need to be an expert\, just be a friend! Commitment: - One night a month for 18 months starting 8/1/2024 - Participate in 3 Keys nights leading up to your commitment Night 1: Mixer Night... fun night for Core Leaders and potential friends to meet and get to know each other. (5/23/2024) Night 2: Why Core Night... This is the night we get excited (and for us old-timers reminded why we are here)! What is Core all about? How we are at the Core changing Lives and Our Community Together! (5/30/2024) Nionight 3: Match Night... Aw the best night\, when Core Leaders and Core Friends are matched together. Let the Friendships and Growing begin! (6/06/2024) For more information please contact: Jan Perez @ (620) 792 - 7995 call or email janperez@essdack.org (620) 200 - 2419 call or text and email rachelellson@essdack.org
LOCATION:
UID:e.2303.13632
SEQUENCE:3
DTSTAMP:20260425T221149Z
URL:https://members.greatbend.org/events/details/barton-county-core-community-what-is-a-core-friend-06-06-2024-13632
END:VEVENT

END:VCALENDAR
