BEGIN:VCALENDAR
VERSION:2.0
PRODID:-//ChamberMaster//Event Calendar 2.0//EN
METHOD:PUBLISH
X-PUBLISHED-TTL:P3D
REFRESH-INTERVAL:P3D
CALSCALE:GREGORIAN
BEGIN:VEVENT
DTSTART:20171028T150000Z
DTEND:20171028T190000Z
X-MICROSOFT-CDO-ALLDAYEVENT:FALSE
SUMMARY:Barton County Drug Take-Back Day
DESCRIPTION:Barton County Drug Take-Back Day\, is Saturday\, October 28\, from 10am to 2pm\, sponsored by Barton County Health Department and Barton County Sheriff's Office. It will be a drive-through drug drop-off\, tentatively on the corner of Kansas and Lakin Streets in Great Bend. County residents are urged to collect their unused and expired medications and take advantage of the safe drug disposal offered on October 28.
X-ALT-DESC;FMTTYPE=text/html:Barton County Drug Take-Back Day\, is Saturday\, October 28\, from 10am to 2pm\, sponsored by Barton County Health Department and Barton County Sheriff&rsquo\;s Office. It will be a drive-through drug drop-off\, tentatively on the corner of Kansas and Lakin Streets in Great Bend. County residents are urged to collect their unused and expired medications and take advantage of the safe drug disposal offered on October 28.
LOCATION:Corner of Kansas and Lakin Streets in Great Bend\, Jack Kilby Square
UID:e.2303.3424
SEQUENCE:3
DTSTAMP:20260422T132033Z
URL:https://members.greatbend.org/events/details/barton-county-drug-take-back-day-3424
END:VEVENT

END:VCALENDAR
