BEGIN:VCALENDAR
VERSION:2.0
PRODID:-//ChamberMaster//Event Calendar 2.0//EN
METHOD:PUBLISH
X-PUBLISHED-TTL:P3D
REFRESH-INTERVAL:P3D
CALSCALE:GREGORIAN
BEGIN:VEVENT
DTSTART:20200210T140000Z
DTEND:20200210T160000Z
X-MICROSOFT-CDO-ALLDAYEVENT:FALSE
SUMMARY:Barton County Economic Outlook Event
DESCRIPTION:Come join us to talk about relevant economic issues that will impact local businesses and communities. STATE AND REGIONAL OUTLOOK from Jeremy Hill\, Director\, Center for Economic Development and Business Research Wichita State University The outlook will cover current economic conditions\, economic drivers for the state and regional economies\, and general expectations over the coming months. LOCAL UPDATE from Paul Snapp\, President/CEO First Kansas Bank
X-ALT-DESC;FMTTYPE=text/html:Come join us to talk about relevant economic issues that will impact local businesses and communities. STATE AND REGIONAL OUTLOOK from Jeremy Hill\, Director\, Center for Economic Development and Business Research Wichita State University The outlook will cover current economic conditions\, economic drivers for the state and regional economies\, and general expectations over the coming months. LOCAL UPDATE from Paul Snapp\, President/CEO First Kansas Bank
LOCATION:Holiday Inn Express 3821 10th Street Great Bend\, KS 67530
UID:e.2303.7587
SEQUENCE:3
DTSTAMP:20260419T224016Z
URL:https://members.greatbend.org/events/details/barton-county-economic-outlook-event-7587
END:VEVENT

END:VCALENDAR
