BEGIN:VCALENDAR
VERSION:2.0
PRODID:-//ChamberMaster//Event Calendar 2.0//EN
METHOD:PUBLISH
X-PUBLISHED-TTL:P3D
REFRESH-INTERVAL:P3D
CALSCALE:GREGORIAN
BEGIN:VEVENT
DTSTART:20240501T140000Z
DTEND:20240501T220000Z
X-MICROSOFT-CDO-ALLDAYEVENT:FALSE
SUMMARY:Barton County Historical Society
DESCRIPTION:Join us at the Barton County Historical Society for Pioneer Day!!!
X-ALT-DESC;FMTTYPE=text/html:Join us at the Barton County Historical Society for Pioneer Day!!!
LOCATION:85 US 281 Great Bend\, KS 67530
UID:e.2303.13559
SEQUENCE:3
DTSTAMP:20260425T184811Z
URL:https://members.greatbend.org/events/details/barton-county-historical-society-13559
END:VEVENT

END:VCALENDAR
