BEGIN:VCALENDAR
VERSION:2.0
PRODID:-//ChamberMaster//Event Calendar 2.0//EN
METHOD:PUBLISH
X-PUBLISHED-TTL:P3D
REFRESH-INTERVAL:P3D
CALSCALE:GREGORIAN
BEGIN:VEVENT
DTSTART:20240521T000000Z
DTEND:20240521T010000Z
X-MICROSOFT-CDO-ALLDAYEVENT:FALSE
SUMMARY:Barton County Historical Society
DESCRIPTION:Program: Mildred Schindler Janzen\n\nHer life in post World War II Europe
X-ALT-DESC;FMTTYPE=text/html:Program: Mildred Schindler Janzen<br />\nHer life in post World War II Europe
LOCATION:85 US-281 Great Bend\, KS 67530
UID:e.2303.13560
SEQUENCE:3
DTSTAMP:20260425T184810Z
URL:https://members.greatbend.org/events/details/barton-county-historical-society-13560
END:VEVENT

END:VCALENDAR
