BEGIN:VCALENDAR
VERSION:2.0
PRODID:-//ChamberMaster//Event Calendar 2.0//EN
METHOD:PUBLISH
X-PUBLISHED-TTL:P3D
REFRESH-INTERVAL:P3D
CALSCALE:GREGORIAN
BEGIN:VEVENT
DTSTART:20240423T000000Z
DTEND:20240423T010000Z
X-MICROSOFT-CDO-ALLDAYEVENT:FALSE
SUMMARY:Barton County Historical Society Progam
DESCRIPTION:Program: Justin Englemen\n\n"Broadway Beauties" Back by Popular Demand
X-ALT-DESC;FMTTYPE=text/html:Program: Justin Englemen<br />\n&quot\;Broadway Beauties&quot\; Back by Popular Demand
LOCATION:85 US-281 Great Bend\, KS 67530
UID:e.2303.13558
SEQUENCE:3
DTSTAMP:20260425T234637Z
URL:https://members.greatbend.org/events/details/barton-county-historical-society-progam-13558
END:VEVENT

END:VCALENDAR
