BEGIN:VCALENDAR
VERSION:2.0
PRODID:-//ChamberMaster//Event Calendar 2.0//EN
METHOD:PUBLISH
X-PUBLISHED-TTL:P3D
REFRESH-INTERVAL:P3D
CALSCALE:GREGORIAN
BEGIN:VEVENT
DTSTART:20170425T003000Z
DTEND:20170425T023000Z
X-MICROSOFT-CDO-ALLDAYEVENT:FALSE
SUMMARY:Barton County Historical Society Program: Farm Restoration
DESCRIPTION:Richard Shank will present
X-ALT-DESC;FMTTYPE=text/html:<span style="color: rgb(13\, 6\, 0)\; font-family: Georgia\; font-size: 13.3333px\;">Richard Shank will present</span>
LOCATION:Barton County Historical Society 85 US-281 Great Bend\, KS 67530
UID:e.2303.1016
SEQUENCE:3
DTSTAMP:20260422T221717Z
URL:https://members.greatbend.org/events/details/barton-county-historical-society-program-farm-restoration-1016
END:VEVENT

END:VCALENDAR
