BEGIN:VCALENDAR
VERSION:2.0
PRODID:-//ChamberMaster//Event Calendar 2.0//EN
METHOD:PUBLISH
X-PUBLISHED-TTL:P3D
REFRESH-INTERVAL:P3D
CALSCALE:GREGORIAN
BEGIN:VEVENT
DTSTART:20170428T230000Z
DTEND:20170429T010000Z
X-MICROSOFT-CDO-ALLDAYEVENT:FALSE
SUMMARY:Barton County Young Professionals Networking Mixer
DESCRIPTION:Barton County Young Professional members will enjoy the artistic ambiance of the Shafer Gallery while networking with fellow members over drinks.
X-ALT-DESC;FMTTYPE=text/html:<span style="color: rgb(13\, 6\, 0)\; font-family: Georgia\; font-size: 13.3333px\;">Barton County Young Professional members will enjoy the artistic ambiance of the Shafer Gallery while networking with fellow members over drinks.</span>
LOCATION:Shafer Art Gallery 245 NE 30 Rd\, Great Bend
UID:e.2303.1225
SEQUENCE:3
DTSTAMP:20260422T221117Z
URL:https://members.greatbend.org/events/details/barton-county-young-professionals-networking-mixer-1225
END:VEVENT

END:VCALENDAR
