BEGIN:VCALENDAR
VERSION:2.0
PRODID:-//ChamberMaster//Event Calendar 2.0//EN
METHOD:PUBLISH
X-PUBLISHED-TTL:P3D
REFRESH-INTERVAL:P3D
CALSCALE:GREGORIAN
BEGIN:VEVENT
DTSTART:20200222T233000Z
DTEND:20200223T033000Z
X-MICROSOFT-CDO-ALLDAYEVENT:FALSE
SUMMARY:Barton Women's & Men Basketball Games
DESCRIPTION:Barton Community College Men and Women's Basketball
X-ALT-DESC;FMTTYPE=text/html:Barton Community College Men and Women&#39\;s Basketball
LOCATION:Barton Community College 245 NE 30 Road Great Bend\, KS
UID:e.2303.7709
SEQUENCE:3
DTSTAMP:20260419T225026Z
URL:https://members.greatbend.org/events/details/barton-women-s-men-basketball-games-7709
END:VEVENT

END:VCALENDAR
