BEGIN:VCALENDAR
VERSION:2.0
PRODID:-//ChamberMaster//Event Calendar 2.0//EN
METHOD:PUBLISH
X-PUBLISHED-TTL:P3D
REFRESH-INTERVAL:P3D
CALSCALE:GREGORIAN
BEGIN:VEVENT
DTSTART:20240609T230000Z
DTEND:20240610T010000Z
X-MICROSOFT-CDO-ALLDAYEVENT:FALSE
SUMMARY:Bat Cats - Away
DESCRIPTION:Great Bend Bat Cats against Hutch Monarchs
X-ALT-DESC;FMTTYPE=text/html:Great Bend Bat Cats against Hutch Monarchs
LOCATION:Hobart-Detter Hutchinson\, KS
UID:e.2303.13678
SEQUENCE:3
DTSTAMP:20260425T185100Z
URL:https://members.greatbend.org/events/details/bat-cats-away-06-09-2024-13678
END:VEVENT

END:VCALENDAR
