BEGIN:VCALENDAR
VERSION:2.0
PRODID:-//ChamberMaster//Event Calendar 2.0//EN
METHOD:PUBLISH
X-PUBLISHED-TTL:P3D
REFRESH-INTERVAL:P3D
CALSCALE:GREGORIAN
BEGIN:VEVENT
DTSTART:20240630T000000Z
DTEND:20240630T020000Z
X-MICROSOFT-CDO-ALLDAYEVENT:FALSE
SUMMARY:Bat Cats - Away
DESCRIPTION:Great Bend Bat Cats against Newton Rebels
X-ALT-DESC;FMTTYPE=text/html:Great Bend Bat Cats against Newton Rebels
LOCATION:Klein-Scott Newton\, KS
UID:e.2303.13683
SEQUENCE:3
DTSTAMP:20260425T180834Z
URL:https://members.greatbend.org/events/details/bat-cats-away-06-29-2024-13683
END:VEVENT

END:VCALENDAR
