BEGIN:VCALENDAR
VERSION:2.0
PRODID:-//ChamberMaster//Event Calendar 2.0//EN
METHOD:PUBLISH
X-PUBLISHED-TTL:P3D
REFRESH-INTERVAL:P3D
CALSCALE:GREGORIAN
BEGIN:VEVENT
DTSTART:20240607T000000Z
DTEND:20240607T020000Z
X-MICROSOFT-CDO-ALLDAYEVENT:FALSE
SUMMARY:Bat Cats - Home
DESCRIPTION:Bat Cats at home against the Kingman Islanders
X-ALT-DESC;FMTTYPE=text/html:Bat Cats at home against the Kingman Islanders
LOCATION:Al Burns Memorial Field
UID:e.2303.13657
SEQUENCE:3
DTSTAMP:20260425T123341Z
URL:https://members.greatbend.org/events/details/bat-cats-home-06-06-2024-13657
END:VEVENT

END:VCALENDAR
