BEGIN:VCALENDAR
VERSION:2.0
PRODID:-//ChamberMaster//Event Calendar 2.0//EN
METHOD:PUBLISH
X-PUBLISHED-TTL:P3D
REFRESH-INTERVAL:P3D
CALSCALE:GREGORIAN
BEGIN:VEVENT
DTSTART:20240628T000000Z
DTEND:20240628T020000Z
X-MICROSOFT-CDO-ALLDAYEVENT:FALSE
SUMMARY:Bat Cats - Home
DESCRIPTION:Bat Cats at home against the Newton Rebels-\n\nThe Great Bend Bat Cats thank you for visiting\, and supporting your hometown team! the bat cats began play in June 2017. playing at Al Burns memorial field in great bend\, Kansas\, the Bat Cats offer free family fun all summer long.
X-ALT-DESC;FMTTYPE=text/html:Bat Cats at home against the Newton Rebels-<br />\nThe Great Bend Bat Cats thank you for visiting\, and supporting your hometown team! the bat cats began play in June 2017. playing at Al Burns memorial field in great bend\, Kansas\, the Bat Cats offer free family fun all summer long.
LOCATION:Al Burns Memorial Field
UID:e.2303.13665
SEQUENCE:3
DTSTAMP:20260425T190351Z
URL:https://members.greatbend.org/events/details/bat-cats-home-06-27-2024-13665
END:VEVENT

END:VCALENDAR
