BEGIN:VCALENDAR
VERSION:2.0
PRODID:-//ChamberMaster//Event Calendar 2.0//EN
METHOD:PUBLISH
X-PUBLISHED-TTL:P3D
REFRESH-INTERVAL:P3D
CALSCALE:GREGORIAN
BEGIN:VEVENT
DTSTART:20220715T000000Z
DTEND:20220715T020000Z
X-MICROSOFT-CDO-ALLDAYEVENT:FALSE
SUMMARY:Bat Cats vs. Cheney Diamond Dawgs
DESCRIPTION:Clint Steinert Memorial Night\n\n	FREE Coors Light\n	FREE Keystone Light
X-ALT-DESC;FMTTYPE=text/html:Clint Steinert Memorial Night\n<ul>\n	<li>FREE Coors Light</li>\n	<li>FREE Keystone Light</li>\n</ul>\n
LOCATION:Al Burns Field
UID:e.2303.10849
SEQUENCE:3
DTSTAMP:20260423T032716Z
URL:https://members.greatbend.org/events/details/bat-cats-vs-cheney-diamond-dawgs-10849
END:VEVENT

END:VCALENDAR
