BEGIN:VCALENDAR
VERSION:2.0
PRODID:-//ChamberMaster//Event Calendar 2.0//EN
METHOD:PUBLISH
X-PUBLISHED-TTL:P3D
REFRESH-INTERVAL:P3D
CALSCALE:GREGORIAN
BEGIN:VEVENT
DTSTART:20220708T000000Z
DTEND:20220708T020000Z
X-MICROSOFT-CDO-ALLDAYEVENT:FALSE
SUMMARY:Bat Cats vs. Derby Twins
DESCRIPTION:Sponsored by Magna Dry\n\n	$1 Beer Night
X-ALT-DESC;FMTTYPE=text/html:Sponsored by Magna Dry\n<ul>\n	<li>$1 Beer Night</li>\n</ul>\n
LOCATION:Al Burns Field
UID:e.2303.10846
SEQUENCE:3
DTSTAMP:20260423T045719Z
URL:https://members.greatbend.org/events/details/bat-cats-vs-derby-twins-10846
END:VEVENT

END:VCALENDAR
