BEGIN:VCALENDAR
VERSION:2.0
PRODID:-//ChamberMaster//Event Calendar 2.0//EN
METHOD:PUBLISH
X-PUBLISHED-TTL:P3D
REFRESH-INTERVAL:P3D
CALSCALE:GREGORIAN
BEGIN:VEVENT
DTSTART:20220709T230000Z
DTEND:20220710T010000Z
X-MICROSOFT-CDO-ALLDAYEVENT:FALSE
SUMMARY:Bat Cats vs. Derby Twins
DESCRIPTION:Sponsored by Red Barn Pet Products\n\n	Bark at the Park - Bring your Dogs\n	FREE TREATS!
X-ALT-DESC;FMTTYPE=text/html:Sponsored by Red Barn Pet Products\n<ul>\n	<li>Bark at the Park - Bring your Dogs</li>\n	<li>FREE TREATS!</li>\n</ul>\n
LOCATION:Al Burns Field
UID:e.2303.10847
SEQUENCE:3
DTSTAMP:20260423T045718Z
URL:https://members.greatbend.org/events/details/bat-cats-vs-derby-twins-10847
END:VEVENT

END:VCALENDAR
