BEGIN:VCALENDAR
VERSION:2.0
PRODID:-//ChamberMaster//Event Calendar 2.0//EN
METHOD:PUBLISH
X-PUBLISHED-TTL:P3D
REFRESH-INTERVAL:P3D
CALSCALE:GREGORIAN
BEGIN:VEVENT
DTSTART:20220702T230000Z
DTEND:20220703T010000Z
X-MICROSOFT-CDO-ALLDAYEVENT:FALSE
SUMMARY:Bat Cats vs. Kingman Islanders
DESCRIPTION:Sponsored by Pryor Automatic Fire Sprinkler\, Inc.\n\n	The First 100 Fans will receive Bat Cats Sports Water Bottles!
X-ALT-DESC;FMTTYPE=text/html:Sponsored by Pryor Automatic Fire Sprinkler\, Inc.\n<ul>\n	<li>The First 100 Fans will receive Bat Cats Sports Water Bottles!</li>\n</ul>\n
LOCATION:Al Burns Field
UID:e.2303.10838
SEQUENCE:3
DTSTAMP:20260423T045607Z
URL:https://members.greatbend.org/events/details/bat-cats-vs-kingman-islanders-10838
END:VEVENT

END:VCALENDAR
