BEGIN:VCALENDAR
VERSION:2.0
PRODID:-//ChamberMaster//Event Calendar 2.0//EN
METHOD:PUBLISH
X-PUBLISHED-TTL:P3D
REFRESH-INTERVAL:P3D
CALSCALE:GREGORIAN
BEGIN:VEVENT
DTSTART:20220720T000000Z
DTEND:20220720T020000Z
X-MICROSOFT-CDO-ALLDAYEVENT:FALSE
SUMMARY:Bat Cats vs. Wichita Lobos
DESCRIPTION:Sponsored by the Great Bend Convention & Visitors Bureau\n\n	FREE Meals\n	Freddy's Custard Coupons to the FIRST 100 FANS!
X-ALT-DESC;FMTTYPE=text/html:Sponsored by the Great Bend Convention &amp\; Visitors Bureau\n<ul>\n	<li>FREE Meals</li>\n	<li>Freddy&#39\;s Custard Coupons to the FIRST 100 FANS!</li>\n</ul>\n
LOCATION:Al Burns Field
UID:e.2303.10850
SEQUENCE:3
DTSTAMP:20260423T032534Z
URL:https://members.greatbend.org/events/details/bat-cats-vs-wichita-lobos-10850
END:VEVENT

END:VCALENDAR
