BEGIN:VCALENDAR
VERSION:2.0
PRODID:-//ChamberMaster//Event Calendar 2.0//EN
METHOD:PUBLISH
X-PUBLISHED-TTL:P3D
REFRESH-INTERVAL:P3D
CALSCALE:GREGORIAN
BEGIN:VEVENT
DTSTART:20200222T180000Z
DTEND:20200223T040000Z
X-MICROSOFT-CDO-ALLDAYEVENT:FALSE
SUMMARY:Battle in the Barn
DESCRIPTION:Indoor Motorcycle & Kart Racing Presented by: The Barton County Fair Association
X-ALT-DESC;FMTTYPE=text/html:Indoor Motorcycle &amp\; Kart Racing Presented by: The Barton County Fair Association
LOCATION:Expo III Arena "The Barn" Great Bend\, KS
UID:e.2303.7707
SEQUENCE:3
DTSTAMP:20260419T224641Z
URL:https://members.greatbend.org/events/details/battle-in-the-barn-7707
END:VEVENT

END:VCALENDAR
