BEGIN:VCALENDAR
VERSION:2.0
PRODID:-//ChamberMaster//Event Calendar 2.0//EN
METHOD:PUBLISH
X-PUBLISHED-TTL:P3D
REFRESH-INTERVAL:P3D
CALSCALE:GREGORIAN
BEGIN:VEVENT
DTSTART:20180119T010000Z
DTEND:20180119T020000Z
X-MICROSOFT-CDO-ALLDAYEVENT:FALSE
SUMMARY:BCAC Unity Service
DESCRIPTION:The Barton County Association of Churches is hosting a Unity Service on Thursday\, January 18\, 2018 at 7:00 pm at Prince of Peach Parish at 4100 Broadway. The message will be on reflection of the 'Christian Church' growth since Martin Luther. A social gathering will follow the service. Open to all denominations as we seek to ecumenical growth in our area.
X-ALT-DESC;FMTTYPE=text/html:The Barton County Association of Churches is hosting a Unity Service on Thursday\, January 18\, 2018 at 7:00 pm at Prince of Peach Parish at 4100 Broadway. The message will be on reflection of the &#39\;Christian Church&#39\; growth since Martin Luther. A social gathering will follow the service. Open to all denominations as we seek to ecumenical growth in our area.
LOCATION:
UID:e.2303.3612
SEQUENCE:3
DTSTAMP:20260422T081838Z
URL:https://members.greatbend.org/events/details/bcac-unity-service-3612
END:VEVENT

END:VCALENDAR
