BEGIN:VCALENDAR
VERSION:2.0
PRODID:-//ChamberMaster//Event Calendar 2.0//EN
METHOD:PUBLISH
X-PUBLISHED-TTL:P3D
REFRESH-INTERVAL:P3D
CALSCALE:GREGORIAN
BEGIN:VEVENT
DTSTART:20170428T003000Z
DTEND:20170428T023000Z
X-MICROSOFT-CDO-ALLDAYEVENT:FALSE
SUMMARY:BCC Original Play Series
DESCRIPTION:Barton Theatre Department will be performing the selected short plays from the Original Playwright competition.
X-ALT-DESC;FMTTYPE=text/html:<span style="color: rgb(13\, 6\, 0)\; font-family: Georgia\; font-size: 13.3333px\;">Barton Theatre Department will be performing the selected short plays from the Original Playwright competition.</span>
LOCATION:BCC Fine and Performing Arts Auditorium 245 NE 30 Rd\, Great Bend
UID:e.2303.1219
SEQUENCE:3
DTSTAMP:20260422T220437Z
URL:https://members.greatbend.org/events/details/bcc-original-play-series-1219
END:VEVENT

END:VCALENDAR
