BEGIN:VCALENDAR
VERSION:2.0
PRODID:-//ChamberMaster//Event Calendar 2.0//EN
METHOD:PUBLISH
X-PUBLISHED-TTL:P3D
REFRESH-INTERVAL:P3D
CALSCALE:GREGORIAN
BEGIN:VEVENT
DTSTART:20171028T140000Z
DTEND:20171028T170000Z
X-MICROSOFT-CDO-ALLDAYEVENT:FALSE
SUMMARY:BCHD Special Flu Shot Clinic
DESCRIPTION:Barton County Health Department is sponsoring a Special Flu Shot Clinic on Saturday\, October 28\, from 9am-Noon\, for people of all ages. For most people there is no out-of-pocket cost because Medicare and insurance will be billed. Costs for those with no insurance coverage will be $35 for regular vaccine and $65 for high-dose senior flu shots (age 65 and older).
X-ALT-DESC;FMTTYPE=text/html:Barton County Health Department is sponsoring a Special Flu Shot Clinic on Saturday\, October 28\, from 9am-Noon\, for people of all ages. For most people there is no out-of-pocket cost because Medicare and insurance will be billed. Costs for those with no insurance coverage will be $35 for regular vaccine and $65 for high-dose senior flu shots (age 65 and older).
LOCATION:Barton County Health Department
UID:e.2303.3423
SEQUENCE:3
DTSTAMP:20260422T132808Z
URL:https://members.greatbend.org/events/details/bchd-special-flu-shot-clinic-3423
END:VEVENT

END:VCALENDAR
