BEGIN:VCALENDAR
VERSION:2.0
PRODID:-//ChamberMaster//Event Calendar 2.0//EN
METHOD:PUBLISH
X-PUBLISHED-TTL:P3D
REFRESH-INTERVAL:P3D
CALSCALE:GREGORIAN
BEGIN:VEVENT
DTSTART:20170826T150000Z
DTEND:20170826T200000Z
X-MICROSOFT-CDO-ALLDAYEVENT:FALSE
SUMMARY:BCHS: Annual Rolling Sculpture Car Show
DESCRIPTION:From 10 AM to 3 PM\, the Barton County Historical Society will host the Rolling Sculpture 2017 car show.\n\n\n\nFor the show vehicles: a $10 entry fee\, $5 for each additional vehicle.\n\n\n\nAdmission to the public is free and they offer a lunch concession option.\n\n\n\nFor more information or answers to questions\, contact the Barton County Historical Society at \n\n(620) 793-5125 or bchsoffice@gmail.com
X-ALT-DESC;FMTTYPE=text/html:<span style="color: rgb(13\, 6\, 0)\; font-family: Georgia\; font-size: 13.3333px\;">From 10 AM to 3 PM\, the Barton County Historical Society will host the Rolling Sculpture 2017 car show.</span><br style="color: rgb(13\, 6\, 0)\; font-family: Georgia\; font-size: 13.3333px\;" />\n<br style="color: rgb(13\, 6\, 0)\; font-family: Georgia\; font-size: 13.3333px\;" />\n<span style="color: rgb(13\, 6\, 0)\; font-family: Georgia\; font-size: 13.3333px\;">For the show vehicles: a $10 entry fee\, $5 for each additional vehicle.</span><br style="color: rgb(13\, 6\, 0)\; font-family: Georgia\; font-size: 13.3333px\;" />\n<br style="color: rgb(13\, 6\, 0)\; font-family: Georgia\; font-size: 13.3333px\;" />\n<span style="color: rgb(13\, 6\, 0)\; font-family: Georgia\; font-size: 13.3333px\;">Admission to the public is free and they offer a lunch concession option.</span><br style="color: rgb(13\, 6\, 0)\; font-family: Georgia\; font-size: 13.3333px\;" />\n<br style="color: rgb(13\, 6\, 0)\; font-family: Georgia\; font-size: 13.3333px\;" />\n<span style="color: rgb(13\, 6\, 0)\; font-family: Georgia\; font-size: 13.3333px\;">For more information or answers to questions\, contact the Barton County Historical Society at&nbsp\;</span><br style="color: rgb(13\, 6\, 0)\; font-family: Georgia\; font-size: 13.3333px\;" />\n<span style="color: rgb(13\, 6\, 0)\; font-family: Georgia\; font-size: 13.3333px\;">(620) 793-5125 or bchsoffice@gmail.com</span>
LOCATION:Barton County Historical Society 85 S. Highway 281 Great Bend\, KS 67530
UID:e.2303.1713
SEQUENCE:3
DTSTAMP:20260422T155539Z
URL:https://members.greatbend.org/events/details/bchs-annual-rolling-sculpture-car-show-1713
END:VEVENT

END:VCALENDAR
