BEGIN:VCALENDAR
VERSION:2.0
PRODID:-//ChamberMaster//Event Calendar 2.0//EN
METHOD:PUBLISH
X-PUBLISHED-TTL:P3D
REFRESH-INTERVAL:P3D
CALSCALE:GREGORIAN
BEGIN:VEVENT
DTSTART:20170627T003000Z
DTEND:20170627T013000Z
X-MICROSOFT-CDO-ALLDAYEVENT:FALSE
SUMMARY:BCHS: Monthly Program Meeting – Diane Eickhoff\, "Women Soldiers of the Civil War"
DESCRIPTION:Barton County Historical Society's monthly program meeting will feature Diane Eickhoff\, who will tell the story of "Women Soldiers of the Civil War"\n\n\n\n(sponsored by the Kansas Humanities Council)
X-ALT-DESC;FMTTYPE=text/html:<span style="color: rgb(13\, 6\, 0)\; font-family: Georgia\; font-size: 13.3333px\;">Barton County Historical Society&rsquo\;s monthly program meeting will feature Diane Eickhoff\, who will tell the story of &quot\;Women Soldiers of the Civil War&quot\;</span><br style="color: rgb(13\, 6\, 0)\; font-family: Georgia\; font-size: 13.3333px\;" />\n<br style="color: rgb(13\, 6\, 0)\; font-family: Georgia\; font-size: 13.3333px\;" />\n<span style="color: rgb(13\, 6\, 0)\; font-family: Georgia\; font-size: 13.3333px\;">(sponsored by the Kansas Humanities Council)</span>
LOCATION:Barton County Historical Society 85 S. Highway 281 Great Bend\, KS 67530
UID:e.2303.1711
SEQUENCE:3
DTSTAMP:20260422T185734Z
URL:https://members.greatbend.org/events/details/bchs-monthly-program-meeting-diane-eickhoff-women-soldiers-of-the-civil-war-1711
END:VEVENT

END:VCALENDAR
