BEGIN:VCALENDAR
VERSION:2.0
PRODID:-//ChamberMaster//Event Calendar 2.0//EN
METHOD:PUBLISH
X-PUBLISHED-TTL:P3D
REFRESH-INTERVAL:P3D
CALSCALE:GREGORIAN
BEGIN:VEVENT
DTSTART:20171024T003000Z
DTEND:20171024T013000Z
X-MICROSOFT-CDO-ALLDAYEVENT:FALSE
SUMMARY:BCHS: Monthly Program Meeting – Mike Westerman as Edgar Allan Poe
DESCRIPTION:Barton County Historical Society's monthly program meeting will feature Ellinwood's Mike Westerman as Edgar Allan Poe in celebration of Halloween.
X-ALT-DESC;FMTTYPE=text/html:<span style="color: rgb(13\, 6\, 0)\; font-family: Georgia\; font-size: 13.3333px\;">Barton County Historical Society&rsquo\;s monthly program meeting will feature Ellinwood&#39\;s Mike Westerman as Edgar Allan Poe in celebration of Halloween.</span>
LOCATION:Barton County Historical Society 85 S. Highway 281 Great Bend\, KS 67530
UID:e.2303.1715
SEQUENCE:3
DTSTAMP:20260422T133053Z
URL:https://members.greatbend.org/events/details/bchs-monthly-program-meeting-mike-westerman-as-edgar-allan-poe-1715
END:VEVENT

END:VCALENDAR
