BEGIN:VCALENDAR
VERSION:2.0
PRODID:-//ChamberMaster//Event Calendar 2.0//EN
METHOD:PUBLISH
X-PUBLISHED-TTL:P3D
REFRESH-INTERVAL:P3D
CALSCALE:GREGORIAN
BEGIN:VEVENT
DTSTART:20180825T010000Z
DTEND:20180825T030000Z
X-MICROSOFT-CDO-ALLDAYEVENT:FALSE
SUMMARY:BCYP Bowling Night Pop-Up Park
DESCRIPTION:Join us August 24 from 8 - 10 p.m. for a fun evening of bowling at Walnut Bowl located at 3101 Washington Street. Get a babysitter and come out for date night or grab some friends for a fun-filled evening! Walnut Bowl serves amazing food (including one of the best burgers in town) and drinks! Walnut Bowl is providing discounted rates for bowling and shoes! You will get to bowl for $3.40 a game and shoe rentals will only be $1!
X-ALT-DESC;FMTTYPE=text/html:Join us August 24 from 8 - 10 p.m. for a fun evening of bowling at Walnut Bowl located at 3101 Washington Street. Get a babysitter and come out for date night or grab some friends for a fun-filled evening! Walnut Bowl serves amazing food (including one of the best burgers in town) and drinks! Walnut Bowl is providing discounted rates for bowling and shoes! You will get to bowl for $3.40 a game and shoe rentals will only be $1!
LOCATION:Walnut Bowl
UID:e.2303.6128
SEQUENCE:3
DTSTAMP:20260420T082731Z
URL:https://members.greatbend.org/events/details/bcyp-bowling-night-pop-up-park-6128
END:VEVENT

END:VCALENDAR
